BEGIN:VCALENDAR
PRODID:-//AT Content Types//AT Event//EN
VERSION:1.0
BEGIN:VEVENT
DTSTART:20250618T073000Z
DTEND:20250618T160000Z
DCREATED:20250403T191347Z
UID:ATEvent-aeb03c8ce9e548ef8145b6ee379a5d4c
SEQUENCE:0
LAST-MODIFIED:20250403T193032Z
SUMMARY:Assemblée représentative 2025
DESCRIPTION:Le 18 juin 2025\, à l’Enclos Rey à PARIS\, se tiendra 
 notre Assemblée Représentative. \nNous engageons tous les groupes lo
 caux\, dès à présent\, à y participer activement.
LOCATION:Enclos Rey - Paris XVème
PRIORITY:3
TRANSP:0
END:VEVENT
END:VCALENDAR
